BEGIN:VCALENDAR
VERSION:2.0
PRODID:-//Tukios.com/
BEGIN:VEVENT
UID:a153a814-d7fd-4eb2-b415-f9aa0491ec4f@www.zmsfuneralhome.com
DTSTAMP:20260425T021843Z
DTSTART:20260430T160000Z
DTEND:20260430T170000Z
SUMMARY:Funeral Service
DESCRIPTION:
URL:https://www.zmsfuneralhome.com/obituaries/donald-erickson
LOCATION: 108 Broadway  Gilbert MN 55741
GEO:47.4883841;-92.4657011
END:VEVENT
END:VCALENDAR